BEGIN:VCALENDAR
VERSION:2.0
PRODID:-//wp-events-plugin.com//7.2.3.1//EN
TZID:Europe/Berlin
X-WR-TIMEZONE:Europe/Berlin
BEGIN:VEVENT
UID:102@kulturkueche-herne.de
DTSTART;TZID=Europe/Berlin:20260430T190000
DTEND;TZID=Europe/Berlin:20260430T210000
DTSTAMP:20260403T071204Z
URL:https://www.kulturkueche-herne.de/events/lesung-ulli-engelbrecht/
SUMMARY:Lesung Ulli Engelbrecht
DESCRIPTION:Rockstorys &amp\; Popgeschichten\nUlli Engelbrecht erinnert an 
 Lebensgefühle und Musik der 1970er- und 1980er-Jahre\nLiebesnöte\, Aufbr
 uchstimmungen\, Hörexzesse\, traumatische Erlebnisse – all dies\nsteht 
 im Zentrum des popliterarischen Retro-LeseTrips von und mit Ulli\nEngelbre
 cht. Seine munteren Rockstorys &amp\; Popgeschichten drehen sich um die\nG
 efühlswelten der Thekenturner\, Träumer und Tri-Top-Trinker in den 1970e
 r- und\n1980er-Jahren und um die Singles und LPs\, die jenen Klangkosmos t
 ransportierten\,\nder den Zeitgeist kräftig aufmischte und der von den ju
 ngen Menschen wie wild\ngehört und für immer und ewig verinnerlicht wurd
 e.\nWie war es beispielsweise möglich\, dass Emerson\, Lake &amp\; Palmer
  das Interesse an\nden Schulmädchen-Reports befeuerten? Welche Geheimniss
 e werden offenbart\,\nwenn eine Single aus ihrem Leben erzählt? Was hat d
 ie Kunst des exaltierten USBlaublüters Prince in einem Mais-Labyrinth zu 
 suchen? Wie kann man sich gegen\neine etwaige Nonstop-Berieselung im Jense
 its wappnen? Wieso sorgt angenehm\ntemperiertes Toilettenpapier für brenn
 enden Schläfen?\nDass in den Antworten auf solche Fragen auch wunderliche
  Phänomene wie\nTropfenfänger\, Leckmuscheln\, lila Latzhosen\, Vernell-
 Weichspüler\, Russ-MeyerFilme\, das grüne Auge\, Persiko\, lange Haare\,
  Talkshows\, kurze Röcke oder veganes\nSexspielzeug eine Rolle spielen\, 
 versteht sich von selbst.\nNeben den Texten kommt auch ein Mono-Cassettenr
 ecorder zum Einsatz\, der längst\nvergessene Trailer oder O-Töne präsen
 tiert. Und wer beim Rätselspaß die richtigen\nAntworten weiß\, gewinnt 
 sogar echte Schallplatten!\nUlli Engelbrecht lebt als notorischer Schallpl
 attenhörer\, Autor\, Vorleser und bekennender Nostalgie-Experte in Bochum
 .\nBücher\, Infos\, Blog und mehr:\nwww.ulli-engelbrecht.de
ATTACH;FMTTYPE=image/jpeg:https://www.kulturkueche-herne.de/wp-content/upl
 oads/2026/01/Ulli-Engelbrecht-Das-Plakat-A3-scaled.jpg
END:VEVENT
BEGIN:VTIMEZONE
TZID:Europe/Berlin
X-LIC-LOCATION:Europe/Berlin
BEGIN:DAYLIGHT
DTSTART:20260329T030000
TZOFFSETFROM:+0100
TZOFFSETTO:+0200
TZNAME:CEST
END:DAYLIGHT
END:VTIMEZONE
END:VCALENDAR